BEGIN:VCALENDAR
VERSION:2.0
CALSCALE:GREGORIAN
PRODID:-//Diputació de Barcelona//DibaCMS//EN
BEGIN:VEVENT
UID:54511
DTSTAMP:20260423T005210
DTSTART:20190502T150000
DTEND:20190531T200000
SUMMARY:EXPOSICIÓ DE FOTOGRAFIES "Imatges del romànic del Montseny" 
LOCATION:Av. Pau Casals, 26 08450 Llinars del Vallès
METHOD:PUBLISH
X-WR-CALNAME:info@llinarsdelvalles.cat
X-WR-TIMEZONE:Europe/Madrid
DESCRIPTION:A càrrec de Mariano Pagès

URI:https://www.llinarsdelvalles.cat/actualitat/agenda/exposicio-de-fotografies-imatges-del-romanic-del-montseny-.html
CLASS:PUBLIC
END:VEVENT
END:VCALENDAR
