BEGIN:VCALENDAR
VERSION:2.0
CALSCALE:GREGORIAN
PRODID:-//Diputació de Barcelona//DibaCMS//EN
BEGIN:VEVENT
UID:54512
DTSTAMP:20260425T222513
DTSTART:20190404T190000
DTEND:20190404T190000
SUMMARY:FESTA DE PRESENTACIÓ DE LA NOVEL·LA “M'ha posat a cent la teva madrasta” de Marina Martori
LOCATION:Ronda Sant Antoni, 19 08450 Llinars del Vallès
METHOD:PUBLISH
X-WR-CALNAME:info@llinarsdelvalles.cat
X-WR-TIMEZONE:Europe/Madrid
DESCRIPTION:
URI:https://www.llinarsdelvalles.cat/actualitat/agenda/festa-de-presentacio-de-la-novella-mha-posat-a-cent-la-teva-madrasta-de-marina-martori.html
CLASS:PUBLIC
END:VEVENT
END:VCALENDAR
