BEGIN:VCALENDAR
VERSION:2.0
CALSCALE:GREGORIAN
PRODID:-//Diputació de Barcelona//DibaCMS//EN
BEGIN:VEVENT
UID:54515
DTSTAMP:20260425T192820
DTSTART:20190407T113000
DTEND:20190407T113000
SUMMARY:XXIX TROBADA de Colles de Ball de Gitanes
LOCATION:Plaça dels Països Catalans 
METHOD:PUBLISH
X-WR-CALNAME:info@llinarsdelvalles.cat
X-WR-TIMEZONE:Europe/Madrid
DESCRIPTION:
URI:https://www.llinarsdelvalles.cat/actualitat/agenda/xxix-trobada-de-colles-de-ball-de-gitanes.html
CLASS:PUBLIC
END:VEVENT
END:VCALENDAR
