BEGIN:VCALENDAR
VERSION:2.0
CALSCALE:GREGORIAN
PRODID:-//Diputació de Barcelona//DibaCMS//EN
BEGIN:VEVENT
UID:54516
DTSTAMP:20260425T205000
DTSTART:20190410T190000
DTEND:20190410T190000
SUMMARY:PRESENTACIÓ DEL LLIBRE “Sal roja: el llop de Cardona” de Ramon Gasch i Teresa Sagrera, presentació a càrrec dels autors i de Joan Mauri
LOCATION:Av. Pau Casals, 26 08450 Llinars del Vallès
METHOD:PUBLISH
X-WR-CALNAME:info@llinarsdelvalles.cat
X-WR-TIMEZONE:Europe/Madrid
DESCRIPTION:
URI:https://www.llinarsdelvalles.cat/actualitat/agenda/presentacio-del-llibre-sal-roja-el-llop-de-cardona-de-ramon-gasch-i-teresa-sagrera-presentacio-a-carrec-dels-autors-i-de-joan-mauri.html
CLASS:PUBLIC
END:VEVENT
END:VCALENDAR
