BEGIN:VCALENDAR
VERSION:2.0
CALSCALE:GREGORIAN
PRODID:-//Diputació de Barcelona//DibaCMS//EN
BEGIN:VEVENT
UID:54518
DTSTAMP:20260425T222315
DTSTART:20190415T190000
DTEND:20190415T190000
SUMMARY:LLEGIR EL TEATRE  “Stabat Mater” de Antonio Tarantino, a càrrec de Cristina Fernández
LOCATION:Av. Pau Casals, 26 08450 Llinars del Vallès
METHOD:PUBLISH
X-WR-CALNAME:info@llinarsdelvalles.cat
X-WR-TIMEZONE:Europe/Madrid
DESCRIPTION:
URI:https://www.llinarsdelvalles.cat/actualitat/agenda/llegir-el-teatre-stabat-mater-de-antonio-tarantino-a-carrec-de-cristina-fernandez.html
CLASS:PUBLIC
END:VEVENT
END:VCALENDAR
