BEGIN:VCALENDAR
VERSION:2.0
CALSCALE:GREGORIAN
PRODID:-//Diputació de Barcelona//DibaCMS//EN
BEGIN:VEVENT
UID:54519
DTSTAMP:20260425T222630
DTSTART:20190420T170000
DTEND:20190420T170000
SUMMARY:MÚSICA PER SANT JORDI AL CASTELL NOU - Ballada de Sardanes a càrrec de l’Orquestra Principal de la Bisbal
LOCATION:08450 Llinars del Vallès
METHOD:PUBLISH
X-WR-CALNAME:info@llinarsdelvalles.cat
X-WR-TIMEZONE:Europe/Madrid
DESCRIPTION:Pati del Castell Nou

URI:https://www.llinarsdelvalles.cat/actualitat/agenda/musica-per-sant-jordi-al-castell-nou-ballada-de-sardanes-a-carrec-de-lorquestra-principal-de-la-bisbal.html
CLASS:PUBLIC
END:VEVENT
END:VCALENDAR
