BEGIN:VCALENDAR
VERSION:2.0
CALSCALE:GREGORIAN
PRODID:-//Diputació de Barcelona//DibaCMS//EN
BEGIN:VEVENT
UID:54520
DTSTAMP:20260425T221608
DTSTART:20190420T190000
DTEND:20190420T190000
SUMMARY:MÚSICA PER SANT JORDI AL CASTELL NOU - Concert de Gala a càrrec de l’Orquestra Principal de la Bisbal
LOCATION:Castell Nou 
METHOD:PUBLISH
X-WR-CALNAME:info@llinarsdelvalles.cat
X-WR-TIMEZONE:Europe/Madrid
DESCRIPTION:
URI:https://www.llinarsdelvalles.cat/actualitat/agenda/musica-per-sant-jordi-al-castell-nou-concert-de-gala-a-carrec-de-lorquestra-principal-de-la-bisbal.html
CLASS:PUBLIC
END:VEVENT
END:VCALENDAR
