BEGIN:VCALENDAR
VERSION:2.0
CALSCALE:GREGORIAN
PRODID:-//Diputació de Barcelona//DibaCMS//EN
BEGIN:VEVENT
UID:54521
DTSTAMP:20260425T204859
DTSTART:20190421T120000
DTEND:20190421T120000
SUMMARY:MÚSICA PER SANT JORDI AL CASTELL NOU - Concert del grup “CRIATURES” dins la gira de presentació del nou disc Praxinoscopi
LOCATION:08450 Llinars del Vallès
METHOD:PUBLISH
X-WR-CALNAME:info@llinarsdelvalles.cat
X-WR-TIMEZONE:Europe/Madrid
DESCRIPTION:Pati d'armes del Castell Nou

URI:https://www.llinarsdelvalles.cat/actualitat/agenda/musica-per-sant-jordi-al-castell-nou-concert-del-grup-criatures-dins-la-gira-de-presentacio-del-nou-disc-praxinoscopi.html
CLASS:PUBLIC
END:VEVENT
END:VCALENDAR
