BEGIN:VCALENDAR
VERSION:2.0
CALSCALE:GREGORIAN
PRODID:-//Diputació de Barcelona//DibaCMS//EN
BEGIN:VEVENT
UID:54522
DTSTAMP:20260425T221349
DTSTART:20190421T183000
DTEND:20190421T183000
SUMMARY:VIU EL SANT JORDI A LLINARS - Cercavila amb La Patufa, i presentació del nino de goma del Gegant Boig 
LOCATION:
METHOD:PUBLISH
X-WR-CALNAME:info@llinarsdelvalles.cat
X-WR-TIMEZONE:Europe/Madrid
DESCRIPTION:A les 18.30 h inici de la cercavila des de la plaça dels Països Catalans

A les 19.30 h presentació del nino de goma del Gegant Boig a la plaça de Santa Maria

URI:https://www.llinarsdelvalles.cat/actualitat/agenda/viu-el-sant-jordi-a-llinars-cercavila-amb-la-patufa-i-presentacio-del-nino-de-goma-del-gegant-boig-.html
CLASS:PUBLIC
END:VEVENT
END:VCALENDAR
