BEGIN:VCALENDAR
VERSION:2.0
CALSCALE:GREGORIAN
PRODID:-//Diputació de Barcelona//DibaCMS//EN
BEGIN:VEVENT
UID:54523
DTSTAMP:20260425T221750
DTSTART:20190423T090000
DTEND:20190423T200000
SUMMARY:VIU EL SANT JORDI A LLINARS
LOCATION:
METHOD:PUBLISH
X-WR-CALNAME:info@llinarsdelvalles.cat
X-WR-TIMEZONE:Europe/Madrid
DESCRIPTION:Durant tot el dia parades de llibres i roses.
ATENCIÓ📣📣 A causa de la previsió meteorològica,🌧🌧 els actes de Sant Jordi es celebraran en el pavelló 1 d'octubre. Bona Diada🌹

URI:https://www.llinarsdelvalles.cat/actualitat/agenda/viu-el-sant-jordi-a-llinars.html
CLASS:PUBLIC
END:VEVENT
END:VCALENDAR
