BEGIN:VCALENDAR
VERSION:2.0
CALSCALE:GREGORIAN
PRODID:-//Diputació de Barcelona//DibaCMS//EN
BEGIN:VEVENT
UID:54524
DTSTAMP:20260425T204939
DTSTART:20190423T170000
DTEND:20190423T170000
SUMMARY:VIU EL SANT JORDI A LLINARS - Ballada de Sardanes a càrrec dels Lluïsos de Taradell
LOCATION:Plaça dels Països Catalans 
METHOD:PUBLISH
X-WR-CALNAME:info@llinarsdelvalles.cat
X-WR-TIMEZONE:Europe/Madrid
DESCRIPTION:📣📣 A causa de la previsió meteorològica,🌧🌧 aquest acte es celebrarà en el pavelló 1 d'octubre. Bona Diada🌹

URI:https://www.llinarsdelvalles.cat/actualitat/agenda/viu-el-sant-jordi-a-llinars-ballada-de-sardanes-a-carrec-dels-lluisos-de-taradell.html
CLASS:PUBLIC
END:VEVENT
END:VCALENDAR
