BEGIN:VCALENDAR
VERSION:2.0
CALSCALE:GREGORIAN
PRODID:-//Diputació de Barcelona//DibaCMS//EN
BEGIN:VEVENT
UID:54525
DTSTAMP:20260425T192759
DTSTART:20190423T200000
DTEND:20190423T200000
SUMMARY:VIU EL SANT JORDI A LLINARS - Concert Coral de Sant Jordi a càrrec de la Coral Turó del Vent
LOCATION:Av. Pau Casals, 26 08450 Llinars del Vallès
METHOD:PUBLISH
X-WR-CALNAME:info@llinarsdelvalles.cat
X-WR-TIMEZONE:Europe/Madrid
DESCRIPTION:
URI:https://www.llinarsdelvalles.cat/actualitat/agenda/viu-el-sant-jordi-a-llinars-concert-coral-de-sant-jordi-a-carrec-de-la-coral-turo-del-vent.html
CLASS:PUBLIC
END:VEVENT
END:VCALENDAR
