BEGIN:VCALENDAR
VERSION:2.0
CALSCALE:GREGORIAN
PRODID:-//Diputació de Barcelona//DibaCMS//EN
BEGIN:VEVENT
UID:54526
DTSTAMP:20260422T192352
DTSTART:20190424T180000
DTEND:20190424T180000
SUMMARY:TALLER FAMILIAR “100 anys Brossa: experimenta amb la poesia” a càrrec de Judith Navarro, Petita Cia. i Librotad
LOCATION:Av. Pau Casals, 26 08450 Llinars del Vallès
METHOD:PUBLISH
X-WR-CALNAME:info@llinarsdelvalles.cat
X-WR-TIMEZONE:Europe/Madrid
DESCRIPTION:
URI:https://www.llinarsdelvalles.cat/actualitat/agenda/taller-familiar-100-anys-brossa-experimenta-amb-la-poesia-a-carrec-de-judith-navarro-petita-cia-i-librotad.html
CLASS:PUBLIC
END:VEVENT
END:VCALENDAR
