BEGIN:VCALENDAR
VERSION:2.0
CALSCALE:GREGORIAN
PRODID:-//Diputació de Barcelona//DibaCMS//EN
BEGIN:VEVENT
UID:54528
DTSTAMP:20260422T220505
DTSTART:20190426T180000
DTEND:20190426T180000
SUMMARY:L’HORA DEL CONTE “Sant Jordi en perill”  a càrrec de Lídia Clua
LOCATION:Av. Pau Casals, 26 08450 Llinars del Vallès
METHOD:PUBLISH
X-WR-CALNAME:info@llinarsdelvalles.cat
X-WR-TIMEZONE:Europe/Madrid
DESCRIPTION:Infants a partir de 3 anys

URI:https://www.llinarsdelvalles.cat/actualitat/agenda/lhora-del-conte-sant-jordi-en-perill-a-carrec-de-lidia-clua.html
CLASS:PUBLIC
END:VEVENT
END:VCALENDAR
