BEGIN:VCALENDAR
VERSION:2.0
CALSCALE:GREGORIAN
PRODID:-//Diputació de Barcelona//DibaCMS//EN
BEGIN:VEVENT
UID:54529
DTSTAMP:20260423T005125
DTSTART:20190426T193000
DTEND:20190426T193000
SUMMARY:LA POESIA NO ESTÀ (TAN SOLS) PER ROMANÇOS
LOCATION:Av. Pau Casals, 26 08450 Llinars del Vallès
METHOD:PUBLISH
X-WR-CALNAME:info@llinarsdelvalles.cat
X-WR-TIMEZONE:Europe/Madrid
DESCRIPTION:Lectura dramatitzada de poemes escrits per Salvador Riera, Eva Bassó i Lita Palomera,  a càrrec d’Eva Bassó, Pere Nogueres, Lita Palomera, Santi Pagés i Manel Morral. Guitarra i veu: Esteve Martí.

URI:https://www.llinarsdelvalles.cat/actualitat/agenda/la-poesia-no-esta-tan-sols-per-romancos.html
CLASS:PUBLIC
END:VEVENT
END:VCALENDAR
