BEGIN:VCALENDAR
VERSION:2.0
CALSCALE:GREGORIAN
PRODID:-//Diputació de Barcelona//DibaCMS//EN
BEGIN:VEVENT
UID:54530
DTSTAMP:20260422T192317
DTSTART:20190427T113000
DTEND:20190427T113000
SUMMARY:L’HORA DELS NADONS “Sant Jordi, la llegenda”  a càrrec de Mima Teatre
LOCATION:Av. Pau Casals, 26 08450 Llinars del Vallès
METHOD:PUBLISH
X-WR-CALNAME:info@llinarsdelvalles.cat
X-WR-TIMEZONE:Europe/Madrid
DESCRIPTION:Adreçat a infants de 0 a 3 anys. Inscripció prèvia. Places limitades.

URI:https://www.llinarsdelvalles.cat/actualitat/agenda/lhora-dels-nadons-sant-jordi-la-llegenda-a-carrec-de-mima-teatre.html
CLASS:PUBLIC
END:VEVENT
END:VCALENDAR
