BEGIN:VCALENDAR
VERSION:2.0
CALSCALE:GREGORIAN
PRODID:-//Diputació de Barcelona//DibaCMS//EN
BEGIN:VEVENT
UID:54531
DTSTAMP:20260422T193228
DTSTART:20190427T163000
DTEND:20190427T163000
SUMMARY:CELEBRACIÓ DE LA FESTIVITAT DE SANT JORDI  al Casal de la Gent Gran i Pensionista
LOCATION:C/ Ramon i Cajal - (cantonada Av. Granollers) 08450 Llinars del Vallés
METHOD:PUBLISH
X-WR-CALNAME:info@llinarsdelvalles.cat
X-WR-TIMEZONE:Europe/Madrid
DESCRIPTION:
URI:https://www.llinarsdelvalles.cat/actualitat/agenda/celebracio-de-la-festivitat-de-sant-jordi-al-casal-de-la-gent-gran-i-pensionista.html
CLASS:PUBLIC
END:VEVENT
END:VCALENDAR
