BEGIN:VCALENDAR
VERSION:2.0
CALSCALE:GREGORIAN
PRODID:-//Diputació de Barcelona//DibaCMS//EN
BEGIN:VEVENT
UID:54538
DTSTAMP:20260422T233122
DTSTART:20190504T190000
DTEND:20190504T190000
SUMMARY:LA VIDA SECRETA DE TENNESSEE WILLIAMS. Monòleg escrit i interpretat per l'actor gironí Marti Peraferrer
LOCATION:08450 Llinars del Vallès
METHOD:PUBLISH
X-WR-CALNAME:info@llinarsdelvalles.cat
X-WR-TIMEZONE:Europe/Madrid
DESCRIPTION:Al Castell Nou

URI:https://www.llinarsdelvalles.cat/actualitat/agenda/la-vida-secreta-de-tennessee-williams-monoleg-escrit-i-interpretat-per-lactor-gironi-marti-peraferrer.html
CLASS:PUBLIC
END:VEVENT
END:VCALENDAR
