BEGIN:VCALENDAR
VERSION:2.0
CALSCALE:GREGORIAN
PRODID:-//Diputació de Barcelona//DibaCMS//EN
BEGIN:VEVENT
UID:54539
DTSTAMP:20260422T192422
DTSTART:20190505T080000
DTEND:20190505T140000
SUMMARY:3a TROBADA DE COTXES CLÀSSICS
LOCATION:Carrer de Frederic Marés 
METHOD:PUBLISH
X-WR-CALNAME:info@llinarsdelvalles.cat
X-WR-TIMEZONE:Europe/Madrid
DESCRIPTION:
URI:https://www.llinarsdelvalles.cat/actualitat/agenda/3a-trobada-de-cotxes-classics.html
CLASS:PUBLIC
END:VEVENT
END:VCALENDAR
