BEGIN:VCALENDAR
VERSION:2.0
CALSCALE:GREGORIAN
PRODID:-//Diputació de Barcelona//DibaCMS//EN
BEGIN:VEVENT
UID:54541
DTSTAMP:20260422T205013
DTSTART:20190509T180000
DTEND:20190509T180000
SUMMARY:TALLER INFANTIL “Iniciació al lettering, l’art de dibuixar lletres”, a càrrec d’Itzi dreams
LOCATION:Av. Pau Casals, 26 08450 Llinars del Vallès
METHOD:PUBLISH
X-WR-CALNAME:info@llinarsdelvalles.cat
X-WR-TIMEZONE:Europe/Madrid
DESCRIPTION:
URI:https://www.llinarsdelvalles.cat/actualitat/agenda/taller-infantil-iniciacio-al-lettering-lart-de-dibuixar-lletres-a-carrec-ditzi-dreams.html
CLASS:PUBLIC
END:VEVENT
END:VCALENDAR
