BEGIN:VCALENDAR
VERSION:2.0
CALSCALE:GREGORIAN
PRODID:-//Diputació de Barcelona//DibaCMS//EN
BEGIN:VEVENT
UID:54560
DTSTAMP:20260422T221422
DTSTART:20190511T080000
DTEND:20190511T080000
SUMMARY:Visita a la Maternitat d'Elna
LOCATION:
METHOD:PUBLISH
X-WR-CALNAME:info@llinarsdelvalles.cat
X-WR-TIMEZONE:Europe/Madrid
DESCRIPTION:Organitzat pel Punt Dona

URI:https://www.llinarsdelvalles.cat/actualitat/agenda/visita-a-la-maternitat-delna.html
CLASS:PUBLIC
END:VEVENT
END:VCALENDAR
