BEGIN:VCALENDAR
VERSION:2.0
CALSCALE:GREGORIAN
PRODID:-//Diputació de Barcelona//DibaCMS//EN
BEGIN:VEVENT
UID:54561
DTSTAMP:20260422T233145
DTSTART:20190511T103000
DTEND:20190511T103000
SUMMARY:Club de lectura. Grup A. "La metgessa de Barcelona" de David Martí a càrrec de José Luis Ibáñez
LOCATION:
METHOD:PUBLISH
X-WR-CALNAME:info@llinarsdelvalles.cat
X-WR-TIMEZONE:Europe/Madrid
DESCRIPTION:
URI:https://www.llinarsdelvalles.cat/actualitat/agenda/club-de-lectura-grup-a-la-metgessa-de-barcelona-de-david-marti-a-carrec-de-jose-luis-ibanez.html
CLASS:PUBLIC
END:VEVENT
END:VCALENDAR
