BEGIN:VCALENDAR
VERSION:2.0
CALSCALE:GREGORIAN
PRODID:-//Diputació de Barcelona//DibaCMS//EN
BEGIN:VEVENT
UID:54565
DTSTAMP:20260422T220209
DTSTART:20190517T180000
DTEND:20190517T180000
SUMMARY:Taller familiar "Fes-te amic d'un cuc de terra", a càrrec de Sara Sareta i Llavors Orientals
LOCATION:Av. Pau Casals, 26 08450 Llinars del Vallès
METHOD:PUBLISH
X-WR-CALNAME:info@llinarsdelvalles.cat
X-WR-TIMEZONE:Europe/Madrid
DESCRIPTION:Vine a la Biblioteca a observar i tocar els cucs de terra. Podràs descobrir el seu fantàstic món: com viuen, què mengen, què no suporten i com s'estimen.

URI:https://www.llinarsdelvalles.cat/actualitat/agenda/taller-familiar-fes-te-amic-dun-cuc-de-terra-a-carrec-de-sara-sareta-i-llavors-orientals.html
CLASS:PUBLIC
END:VEVENT
END:VCALENDAR
