BEGIN:VCALENDAR
VERSION:2.0
CALSCALE:GREGORIAN
PRODID:-//Diputació de Barcelona//DibaCMS//EN
BEGIN:VEVENT
UID:54577
DTSTAMP:20260423T161855
DTSTART:20190427T180000
DTEND:20190519T140000
SUMMARY:Exposició col·lectiva LlinarTs a l'Espai Ruscalleda Art
LOCATION:
METHOD:PUBLISH
X-WR-CALNAME:info@llinarsdelvalles.cat
X-WR-TIMEZONE:Europe/Madrid
DESCRIPTION:Inauguració: dissabte, 27 d'abril de 18 a 22 h

URI:https://www.llinarsdelvalles.cat/actualitat/agenda/exposicio-collectiva-llinarts-a-lespai-ruscalleda-art.html
CLASS:PUBLIC
END:VEVENT
END:VCALENDAR
