BEGIN:VCALENDAR
VERSION:2.0
CALSCALE:GREGORIAN
PRODID:-//Diputació de Barcelona//DibaCMS//EN
BEGIN:VEVENT
UID:54581
DTSTAMP:20260423T003719
DTSTART:20190501T130000
DTEND:20190504T220000
SUMMARY:8a Setmaneta del "Pintxo"
LOCATION:
METHOD:PUBLISH
X-WR-CALNAME:info@llinarsdelvalles.cat
X-WR-TIMEZONE:Europe/Madrid
DESCRIPTION:Aquest any la Setmana del "Pintxo" celebra la seva vuitena edició i per aquest motiu l’hem rebatejat com a Setmaneta!
 

URI:https://www.llinarsdelvalles.cat/actualitat/agenda/54581-8a-setmaneta-del-pintxo.html
CLASS:PUBLIC
END:VEVENT
END:VCALENDAR
