BEGIN:VCALENDAR
VERSION:2.0
CALSCALE:GREGORIAN
PRODID:-//Diputació de Barcelona//DibaCMS//EN
BEGIN:VEVENT
UID:54582
DTSTAMP:20260422T220317
DTSTART:20190520T190000
DTEND:20190520T190000
SUMMARY:LLEGIR EL TEATRE "El Gran mercado del mundo" de Calderón de la Barca, a càrrec de Cristina Fernández
LOCATION:Av. Pau Casals, 26 08450 Llinars del Vallès
METHOD:PUBLISH
X-WR-CALNAME:info@llinarsdelvalles.cat
X-WR-TIMEZONE:Europe/Madrid
DESCRIPTION:
URI:https://www.llinarsdelvalles.cat/actualitat/agenda/llegir-el-teatre-el-gran-mercado-del-mundo-de-calderon-de-la-barca-a-carrec-de-cristina-fernandez.html
CLASS:PUBLIC
END:VEVENT
END:VCALENDAR
