BEGIN:VCALENDAR
VERSION:2.0
CALSCALE:GREGORIAN
PRODID:-//Diputació de Barcelona//DibaCMS//EN
BEGIN:VEVENT
UID:54583
DTSTAMP:20260422T221836
DTSTART:20190524T180000
DTEND:20190524T180000
SUMMARY:L'Hora del conte "Contes que fan la festa" a càrrec de Susagna Navó
LOCATION:Av. Pau Casals, 26 08450 Llinars del Vallès
METHOD:PUBLISH
X-WR-CALNAME:info@llinarsdelvalles.cat
X-WR-TIMEZONE:Europe/Madrid
DESCRIPTION:Adreçat a infants a partir de 3 anys.

URI:https://www.llinarsdelvalles.cat/actualitat/agenda/lhora-del-conte-contes-que-fan-la-festa-a-carrec-de-susagna-navo.html
CLASS:PUBLIC
END:VEVENT
END:VCALENDAR
