BEGIN:VCALENDAR
VERSION:2.0
CALSCALE:GREGORIAN
PRODID:-//Diputació de Barcelona//DibaCMS//EN
BEGIN:VEVENT
UID:54585
DTSTAMP:20260422T220236
DTSTART:20190530T190000
DTEND:20190530T190000
SUMMARY:Presentació Literària de la saga "M'ha posat a cent..." de Marina Martori
LOCATION:Av. Pau Casals, 26 08450 Llinars del Vallès
METHOD:PUBLISH
X-WR-CALNAME:info@llinarsdelvalles.cat
X-WR-TIMEZONE:Europe/Madrid
DESCRIPTION:Lectura de fragments de la saga, presència d'alguns dels personatges, humor i bon rotllo.

URI:https://www.llinarsdelvalles.cat/actualitat/agenda/presentacio-literaria-de-la-saga-mha-posat-a-cent-de-marina-martori.html
CLASS:PUBLIC
END:VEVENT
END:VCALENDAR
