BEGIN:VCALENDAR
VERSION:2.0
CALSCALE:GREGORIAN
PRODID:-//Diputació de Barcelona//DibaCMS//EN
BEGIN:VEVENT
UID:54586
DTSTAMP:20260422T220552
DTSTART:20190531T190000
DTEND:20190531T190000
SUMMARY:XERRADA I TALLER PAR ADULTS "Hort urbà" a càrrec d'Ester Casanova, autora del llibre "Pagesos de Ciutat"
LOCATION:Av. Pau Casals, 26 08450 Llinars del Vallès
METHOD:PUBLISH
X-WR-CALNAME:info@llinarsdelvalles.cat
X-WR-TIMEZONE:Europe/Madrid
DESCRIPTION:Inscripció prèvia. Places limitades.

URI:https://www.llinarsdelvalles.cat/actualitat/agenda/xerrada-i-taller-par-adults-hort-urba-a-carrec-dester-casanova-autora-del-llibre-pagesos-de-ciutat.html
CLASS:PUBLIC
END:VEVENT
END:VCALENDAR
