BEGIN:VCALENDAR
VERSION:2.0
CALSCALE:GREGORIAN
PRODID:-//Diputació de Barcelona//DibaCMS//EN
BEGIN:VEVENT
UID:54592
DTSTAMP:20260422T220302
DTSTART:20190518T100000
DTEND:20190518T100000
SUMMARY:Festa de la família a l'Esportiu
LOCATION:Av. Pau Casals s/n 08450 Llinars del Vallès
METHOD:PUBLISH
X-WR-CALNAME:info@llinarsdelvalles.cat
X-WR-TIMEZONE:Europe/Madrid
DESCRIPTION:Tota la informació en aquest enllaç.

URI:https://www.llinarsdelvalles.cat/actualitat/agenda/festa-de-la-familia-a-lesportiu.html
CLASS:PUBLIC
END:VEVENT
END:VCALENDAR
