BEGIN:VCALENDAR
VERSION:2.0
CALSCALE:GREGORIAN
PRODID:-//Diputació de Barcelona//DibaCMS//EN
BEGIN:VEVENT
UID:54593
DTSTAMP:20260422T220440
DTSTART:20190602T190000
DTEND:20190602T190000
SUMMARY:OPERA ALS PARCS Romanticisme líric
LOCATION:Ronda Sant Antoni, 19 08450 Llinars del Vallès
METHOD:PUBLISH
X-WR-CALNAME:info@llinarsdelvalles.cat
X-WR-TIMEZONE:Europe/Madrid
DESCRIPTION:Amb la voluntat de continuar treballant per la difusió de la cultura als espais naturals protegits que formen part de la Xarxa de Parcs Naturals, la Diputació de Barcelona ha engegat la segona edició del cicle Òpera als parcs.

 

URI:https://www.llinarsdelvalles.cat/actualitat/agenda/opera-als-parcs-romanticisme-liric.html
CLASS:PUBLIC
END:VEVENT
END:VCALENDAR
