BEGIN:VCALENDAR
VERSION:2.0
CALSCALE:GREGORIAN
PRODID:-//Diputació de Barcelona//DibaCMS//EN
BEGIN:VEVENT
UID:54594
DTSTAMP:20260422T205109
DTSTART:20190512T180000
DTEND:20190512T180000
SUMMARY:Alumnes de l'Aula d'òpera d'Amics de la Unió interpreten Die Fledermaus de Johann Strauss 
LOCATION:Carrer Còrsega, 10 (Can Moix) 08450 Llinars del Vallès
METHOD:PUBLISH
X-WR-CALNAME:info@llinarsdelvalles.cat
X-WR-TIMEZONE:Europe/Madrid
DESCRIPTION:
URI:https://www.llinarsdelvalles.cat/actualitat/agenda/alumnes-de-laula-dopera-damics-de-la-unio-interpreten-die-fledermaus-de-johann-strauss-.html
CLASS:PUBLIC
END:VEVENT
END:VCALENDAR
