BEGIN:VCALENDAR
VERSION:2.0
CALSCALE:GREGORIAN
PRODID:-//Diputació de Barcelona//DibaCMS//EN
BEGIN:VEVENT
UID:54615
DTSTAMP:20260422T232530
DTSTART:20190609T100000
DTEND:20190609T140000
SUMMARY:Donació de sang durant la trobada solidària del motor
LOCATION:Bus als camps de l'Illa 
METHOD:PUBLISH
X-WR-CALNAME:info@llinarsdelvalles.cat
X-WR-TIMEZONE:Europe/Madrid
DESCRIPTION:
URI:https://www.llinarsdelvalles.cat/actualitat/agenda/donacio-de-sang-durant-la-trobada-solidaria-del-motor.html
CLASS:PUBLIC
END:VEVENT
END:VCALENDAR
