BEGIN:VCALENDAR
VERSION:2.0
CALSCALE:GREGORIAN
PRODID:-//Diputació de Barcelona//DibaCMS//EN
BEGIN:VEVENT
UID:54616
DTSTAMP:20260422T220935
DTSTART:20190609T080000
DTEND:20190609T210000
SUMMARY:III Cap de setmana Solidari del Motor oganitzat pel Grup CataLands solidaris
LOCATION:Camps de l'Illa 
METHOD:PUBLISH
X-WR-CALNAME:info@llinarsdelvalles.cat
X-WR-TIMEZONE:Europe/Madrid
DESCRIPTION:Recaptació a favor de la Fundació Sant Joan de Déu.

URI:https://www.llinarsdelvalles.cat/actualitat/agenda/iii-cap-de-setmana-solidari-del-motor-oganitzat-pel-grup-catalands-solidaris.html
CLASS:PUBLIC
END:VEVENT
END:VCALENDAR
