BEGIN:VCALENDAR
VERSION:2.0
CALSCALE:GREGORIAN
PRODID:-//Diputació de Barcelona//DibaCMS//EN
BEGIN:VEVENT
UID:54623
DTSTAMP:20260423T035128
DTSTART:20190519T120000
DTEND:20190519T120000
SUMMARY:Presentació del llibre "Lluny del Tíbet" de Maria Teresa Pous 
LOCATION:08450 Llinars del Vallès
METHOD:PUBLISH
X-WR-CALNAME:info@llinarsdelvalles.cat
X-WR-TIMEZONE:Europe/Madrid
DESCRIPTION:Amb Lama Thubten Wangchen, director de la casa del Tíbet de Barcelona, parlamentari del govern tibetà a l'Exili; i Maria Teresa Pous, autora del llibre.

URI:https://www.llinarsdelvalles.cat/actualitat/agenda/presentacio-del-llibre-lluny-del-tibet-de-maria-teresa-pous-.html
CLASS:PUBLIC
END:VEVENT
END:VCALENDAR
