BEGIN:VCALENDAR
VERSION:2.0
CALSCALE:GREGORIAN
PRODID:-//Diputació de Barcelona//DibaCMS//EN
BEGIN:VEVENT
UID:54652
DTSTAMP:20260422T175947
DTSTART:20190601T090000
DTEND:20190601T090000
SUMMARY:Caminada per la salut mental organitzada per la Llar Tres Pins
LOCATION:Sortida davant del Pavelló municipal. 
METHOD:PUBLISH
X-WR-CALNAME:info@llinarsdelvalles.cat
X-WR-TIMEZONE:Europe/Madrid
DESCRIPTION:
URI:https://www.llinarsdelvalles.cat/actualitat/agenda/caminada-per-la-salut-mental-organitzada-per-la-llar-tres-pins.html
CLASS:PUBLIC
END:VEVENT
END:VCALENDAR
