BEGIN:VCALENDAR
VERSION:2.0
CALSCALE:GREGORIAN
PRODID:-//Diputació de Barcelona//DibaCMS//EN
BEGIN:VEVENT
UID:54653
DTSTAMP:20260422T205202
DTSTART:20190601T083000
DTEND:20190601T130000
SUMMARY:XIII Diada de Bàsquet
LOCATION:Av. Pau Casals, 18-20 (Àrea central) 08450 Llinars del Vallès
METHOD:PUBLISH
X-WR-CALNAME:info@llinarsdelvalles.cat
X-WR-TIMEZONE:Europe/Madrid
DESCRIPTION:Oberta a les escoles de Llinars, Vilalba Sasserra, Sant Antoni i Sant Pere de Vilamajor.

URI:https://www.llinarsdelvalles.cat/actualitat/agenda/diada-de-basquet.html
CLASS:PUBLIC
END:VEVENT
END:VCALENDAR
