BEGIN:VCALENDAR
VERSION:2.0
CALSCALE:GREGORIAN
PRODID:-//Diputació de Barcelona//DibaCMS//EN
BEGIN:VEVENT
UID:54654
DTSTAMP:20260422T220538
DTSTART:20190601T100000
DTEND:20190601T190000
SUMMARY:2a Fira de la Salut i Eco Market
LOCATION:Plaça de Santa Maria 
METHOD:PUBLISH
X-WR-CALNAME:info@llinarsdelvalles.cat
X-WR-TIMEZONE:Europe/Madrid
DESCRIPTION:Dintre de la Setmana de la Salut i la Bellesa.
(+ info)

URI:https://www.llinarsdelvalles.cat/actualitat/agenda/2a-fira-de-la-salut-i-eco-market.html
CLASS:PUBLIC
END:VEVENT
END:VCALENDAR
