BEGIN:VCALENDAR
VERSION:2.0
CALSCALE:GREGORIAN
PRODID:-//Diputació de Barcelona//DibaCMS//EN
BEGIN:VEVENT
UID:54655
DTSTAMP:20260422T221912
DTSTART:20190602T080000
DTEND:20190602T080000
SUMMARY:Trobada socis i amics del CELLV - Caminada pel moianès i visita a les coves del Toll
LOCATION:
METHOD:PUBLISH
X-WR-CALNAME:info@llinarsdelvalles.cat
X-WR-TIMEZONE:Europe/Madrid
DESCRIPTION:Organitzat pel CELLV

URI:https://www.llinarsdelvalles.cat/actualitat/agenda/trobada-socis-i-amics-del-cellv-caminada-pel-moianes-i-visita-a-les-coves-del-toll.html
CLASS:PUBLIC
END:VEVENT
END:VCALENDAR
