BEGIN:VCALENDAR
VERSION:2.0
CALSCALE:GREGORIAN
PRODID:-//Diputació de Barcelona//DibaCMS//EN
BEGIN:VEVENT
UID:54658
DTSTAMP:20260422T180124
DTSTART:20190603T150000
DTEND:20190628T200000
SUMMARY:EXPOSICIÓ Fotografia amb poesia. Una mostra de bellesa en aquest món
LOCATION:
METHOD:PUBLISH
X-WR-CALNAME:info@llinarsdelvalles.cat
X-WR-TIMEZONE:Europe/Madrid
DESCRIPTION:A càrrec de Jordi Solà

URI:https://www.llinarsdelvalles.cat/actualitat/agenda/exposicio-fotografia-amb-poesia-una-mostra-de-bellesa-en-aquest-mon.html
CLASS:PUBLIC
END:VEVENT
END:VCALENDAR
