BEGIN:VCALENDAR
VERSION:2.0
CALSCALE:GREGORIAN
PRODID:-//Diputació de Barcelona//DibaCMS//EN
BEGIN:VEVENT
UID:54661
DTSTAMP:20260422T220906
DTSTART:20190609T093000
DTEND:20190609T140000
SUMMARY:Mercat Boig
LOCATION:Passeig Europa de les Nacions 
METHOD:PUBLISH
X-WR-CALNAME:info@llinarsdelvalles.cat
X-WR-TIMEZONE:Europe/Madrid
DESCRIPTION:Organitza: Fundació privada la Miranda

URI:https://www.llinarsdelvalles.cat/actualitat/agenda/54661-mercat-boig.html
CLASS:PUBLIC
END:VEVENT
END:VCALENDAR
