BEGIN:VCALENDAR
VERSION:2.0
CALSCALE:GREGORIAN
PRODID:-//Diputació de Barcelona//DibaCMS//EN
BEGIN:VEVENT
UID:54662
DTSTAMP:20260422T190853
DTSTART:20190609T173000
DTEND:20190609T193000
SUMMARY:Concerts de final de curs de l'Escola Municipal de Música
LOCATION:Ronda Sant Antoni, 19 08450 Llinars del Vallès
METHOD:PUBLISH
X-WR-CALNAME:info@llinarsdelvalles.cat
X-WR-TIMEZONE:Europe/Madrid
DESCRIPTION:🎶Diumenge, 9 de juny: Cantata "El Flautista d'Hamelin"
Dues sessions: a les 17.30 h🕠 i a les 19.30 h🕢

URI:https://www.llinarsdelvalles.cat/actualitat/agenda/54662-concerts-de-final-de-curs-de-lescola-municipal-de-musica.html
CLASS:PUBLIC
END:VEVENT
END:VCALENDAR
