BEGIN:VCALENDAR
VERSION:2.0
CALSCALE:GREGORIAN
PRODID:-//Diputació de Barcelona//DibaCMS//EN
BEGIN:VEVENT
UID:54663
DTSTAMP:20260422T190607
DTSTART:20190614T180000
DTEND:20190614T180000
SUMMARY:L'Hora del conte "La Barretuda" a càrrec de la Cia Patawa
LOCATION:Plaça dels Països Catalans 
METHOD:PUBLISH
X-WR-CALNAME:info@llinarsdelvalles.cat
X-WR-TIMEZONE:Europe/Madrid
DESCRIPTION:
URI:https://www.llinarsdelvalles.cat/actualitat/agenda/lhora-del-conte-la-barretuda-a-carrec-de-la-cia-patawa.html
CLASS:PUBLIC
END:VEVENT
END:VCALENDAR
