BEGIN:VCALENDAR
VERSION:2.0
CALSCALE:GREGORIAN
PRODID:-//Diputació de Barcelona//DibaCMS//EN
BEGIN:VEVENT
UID:54675
DTSTAMP:20260423T061700
DTSTART:20190717T180000
DTEND:20190717T190000
SUMMARY:CLUB DE LECTURA FÀCIL a càrrec del Club Social La Torrassa 
LOCATION:Av. Pau Casals, 26 08450 Llinars del Vallès
METHOD:PUBLISH
X-WR-CALNAME:info@llinarsdelvalles.cat
X-WR-TIMEZONE:Europe/Madrid
DESCRIPTION:
URI:https://www.llinarsdelvalles.cat/actualitat/agenda/54675-club-de-lectura-facil-a-carrec-del-club-social-la-torrassa-.html
CLASS:PUBLIC
END:VEVENT
END:VCALENDAR
