BEGIN:VCALENDAR
VERSION:2.0
CALSCALE:GREGORIAN
PRODID:-//Diputació de Barcelona//DibaCMS//EN
BEGIN:VEVENT
UID:54693
DTSTAMP:20260425T193443
DTSTART:20190608T183000
DTEND:20190608T183000
SUMMARY:Concerts de final de curs de l'Escola Municipal de Música
LOCATION:Ronda Sant Antoni, 19 08450 Llinars del Vallès
METHOD:PUBLISH
X-WR-CALNAME:info@llinarsdelvalles.cat
X-WR-TIMEZONE:Europe/Madrid
DESCRIPTION:🎶Dissabte, 8 de juny: 
Cor d'Inicis de Llinars i Dosrius a les 18.30 h🕡

URI:https://www.llinarsdelvalles.cat/actualitat/agenda/54693-concerts-de-final-de-curs-de-lescola-municipal-de-musica.html
CLASS:PUBLIC
END:VEVENT
END:VCALENDAR
