BEGIN:VCALENDAR
VERSION:2.0
CALSCALE:GREGORIAN
PRODID:-//Diputació de Barcelona//DibaCMS//EN
BEGIN:VEVENT
UID:54703
DTSTAMP:20260422T203050
DTSTART:20190628T190000
DTEND:20190628T190000
SUMMARY:Recital de poesia i guitarra espanyola "De Lorca, de León y de Luna"
LOCATION:Av. Pau Casals, 26 08450 Llinars del Vallès
METHOD:PUBLISH
X-WR-CALNAME:info@llinarsdelvalles.cat
X-WR-TIMEZONE:Europe/Madrid
DESCRIPTION:Sis poemes, tres poetes i tota la tradició popular de l'època a càrrec de Gemma Fonts i Alfred Guiu.

URI:https://www.llinarsdelvalles.cat/actualitat/agenda/recital-de-poesia-i-guitarra-espanyola-de-lorca-de-leon-y-de-luna.html
CLASS:PUBLIC
END:VEVENT
END:VCALENDAR
