BEGIN:VCALENDAR
VERSION:2.0
CALSCALE:GREGORIAN
PRODID:-//Diputació de Barcelona//DibaCMS//EN
BEGIN:VEVENT
UID:54704
DTSTAMP:20260422T203357
DTSTART:20190613T180000
DTEND:20190613T180000
SUMMARY:TALLER INFANTIL Pintem els vidres, t'apuntes?
LOCATION:
METHOD:PUBLISH
X-WR-CALNAME:info@llinarsdelvalles.cat
X-WR-TIMEZONE:Europe/Madrid
DESCRIPTION:A partir de 5 anys.

URI:https://www.llinarsdelvalles.cat/actualitat/agenda/taller-infantil-pintem-els-vidres-tapuntes.html
CLASS:PUBLIC
END:VEVENT
END:VCALENDAR
