BEGIN:VCALENDAR
VERSION:2.0
CALSCALE:GREGORIAN
PRODID:-//Diputació de Barcelona//DibaCMS//EN
BEGIN:VEVENT
UID:54706
DTSTAMP:20260422T190125
DTSTART:20190616T163000
DTEND:20190616T163000
SUMMARY:X Cursa Damià Mateu
LOCATION:C/ de Joaquim Blume, 19 08450 Llinars del Vallés
METHOD:PUBLISH
X-WR-CALNAME:info@llinarsdelvalles.cat
X-WR-TIMEZONE:Europe/Madrid
DESCRIPTION:Inscripcions fins el 14 de juny.

URI:https://www.llinarsdelvalles.cat/actualitat/agenda/x-cursa-damia-mateu.html
CLASS:PUBLIC
END:VEVENT
END:VCALENDAR
