BEGIN:VCALENDAR
VERSION:2.0
CALSCALE:GREGORIAN
PRODID:-//Diputació de Barcelona//DibaCMS//EN
BEGIN:VEVENT
UID:54709
DTSTAMP:20260422T190646
DTSTART:20190615T110000
DTEND:20190615T130000
SUMMARY:Festa de les Cultures
LOCATION:
METHOD:PUBLISH
X-WR-CALNAME:info@llinarsdelvalles.cat
X-WR-TIMEZONE:Europe/Madrid
DESCRIPTION:Escola Salvador Sanromà

URI:https://www.llinarsdelvalles.cat/actualitat/agenda/festa-de-les-cultures.html
CLASS:PUBLIC
END:VEVENT
END:VCALENDAR
