BEGIN:VCALENDAR
VERSION:2.0
CALSCALE:GREGORIAN
PRODID:-//Diputació de Barcelona//DibaCMS//EN
BEGIN:VEVENT
UID:54717
DTSTAMP:20260423T034402
DTSTART:20190706T200000
DTEND:20190707T000000
SUMMARY:OPEN NIGHT + COMERÇ "Alicia al país de les meravelles"
LOCATION:
METHOD:PUBLISH
X-WR-CALNAME:info@llinarsdelvalles.cat
X-WR-TIMEZONE:Europe/Madrid
DESCRIPTION:Dissabte, 6 de juliol
Espais Open Night +Llinars
+bars +T/A +esport +cultura +concerts

URI:https://www.llinarsdelvalles.cat/actualitat/agenda/54717-open-night--comerc-alicia-al-pais-de-les-meravelles.html
CLASS:PUBLIC
END:VEVENT
END:VCALENDAR
